BEGIN:VCALENDAR
VERSION:2.0
PRODID:-//SMC Albatros Ellerau e.V. - ECPv6.15.18//NONSGML v1.0//EN
CALSCALE:GREGORIAN
METHOD:PUBLISH
X-ORIGINAL-URL:https://www.smc-albatros-ellerau.de
X-WR-CALDESC:Veranstaltungen für SMC Albatros Ellerau e.V.
REFRESH-INTERVAL;VALUE=DURATION:PT1H
X-Robots-Tag:noindex
X-PUBLISHED-TTL:PT1H
BEGIN:VTIMEZONE
TZID:Europe/Berlin
BEGIN:DAYLIGHT
TZOFFSETFROM:+0100
TZOFFSETTO:+0200
TZNAME:CEST
DTSTART:20250330T010000
END:DAYLIGHT
BEGIN:STANDARD
TZOFFSETFROM:+0200
TZOFFSETTO:+0100
TZNAME:CET
DTSTART:20251026T010000
END:STANDARD
BEGIN:DAYLIGHT
TZOFFSETFROM:+0100
TZOFFSETTO:+0200
TZNAME:CEST
DTSTART:20260329T010000
END:DAYLIGHT
BEGIN:STANDARD
TZOFFSETFROM:+0200
TZOFFSETTO:+0100
TZNAME:CET
DTSTART:20261025T010000
END:STANDARD
BEGIN:DAYLIGHT
TZOFFSETFROM:+0100
TZOFFSETTO:+0200
TZNAME:CEST
DTSTART:20270328T010000
END:DAYLIGHT
BEGIN:STANDARD
TZOFFSETFROM:+0200
TZOFFSETTO:+0100
TZNAME:CET
DTSTART:20271031T010000
END:STANDARD
END:VTIMEZONE
BEGIN:VEVENT
DTSTART;TZID=Europe/Berlin:20261025T110000
DTEND;TZID=Europe/Berlin:20261025T150000
DTSTAMP:20260421T191450
CREATED:20260405T081946Z
LAST-MODIFIED:20260405T100235Z
UID:8626-1792926000-1792940400@www.smc-albatros-ellerau.de
SUMMARY:Modellbau Börse 2026
DESCRIPTION:
URL:https://www.smc-albatros-ellerau.de/event/modellbau-boerse-2026/
LOCATION:Jacob-Struve-Schule\, Heisterender Weg 19\, Horst\, Schleswig-Holstein\, 24358\, Germany
ORGANIZER;CN="SMC Elmshorn":MAILTO:www.smc-elmshorn.de@email.de
END:VEVENT
END:VCALENDAR