BEGIN:VCALENDAR
VERSION:2.0
PRODID:-//SMC Albatros Ellerau e.V. - ECPv6.15.18//NONSGML v1.0//EN
CALSCALE:GREGORIAN
METHOD:PUBLISH
X-WR-CALNAME:SMC Albatros Ellerau e.V.
X-ORIGINAL-URL:https://www.smc-albatros-ellerau.de
X-WR-CALDESC:Veranstaltungen für SMC Albatros Ellerau e.V.
REFRESH-INTERVAL;VALUE=DURATION:PT1H
X-Robots-Tag:noindex
X-PUBLISHED-TTL:PT1H
BEGIN:VTIMEZONE
TZID:Europe/Berlin
BEGIN:DAYLIGHT
TZOFFSETFROM:+0100
TZOFFSETTO:+0200
TZNAME:CEST
DTSTART:20250330T010000
END:DAYLIGHT
BEGIN:STANDARD
TZOFFSETFROM:+0200
TZOFFSETTO:+0100
TZNAME:CET
DTSTART:20251026T010000
END:STANDARD
BEGIN:DAYLIGHT
TZOFFSETFROM:+0100
TZOFFSETTO:+0200
TZNAME:CEST
DTSTART:20260329T010000
END:DAYLIGHT
BEGIN:STANDARD
TZOFFSETFROM:+0200
TZOFFSETTO:+0100
TZNAME:CET
DTSTART:20261025T010000
END:STANDARD
BEGIN:DAYLIGHT
TZOFFSETFROM:+0100
TZOFFSETTO:+0200
TZNAME:CEST
DTSTART:20270328T010000
END:DAYLIGHT
BEGIN:STANDARD
TZOFFSETFROM:+0200
TZOFFSETTO:+0100
TZNAME:CET
DTSTART:20271031T010000
END:STANDARD
END:VTIMEZONE
BEGIN:VEVENT
DTSTART;TZID=Europe/Berlin:20260901T190000
DTEND;TZID=Europe/Berlin:20260901T203000
DTSTAMP:20260421T172814
CREATED:20260412T140329Z
LAST-MODIFIED:20260412T140329Z
UID:8694-1788289200-1788294600@www.smc-albatros-ellerau.de
SUMMARY:3. offene Vorstandsitzung
DESCRIPTION:
URL:https://www.smc-albatros-ellerau.de/event/3-offene-vorstandsitzung-2/
LOCATION:Niedersachsen
END:VEVENT
BEGIN:VEVENT
DTSTART;TZID=Europe/Berlin:20260904T080000
DTEND;TZID=Europe/Berlin:20260906T170000
DTSTAMP:20260421T172814
CREATED:20260304T162432Z
LAST-MODIFIED:20260304T162432Z
UID:8565-1788508800-1788714000@www.smc-albatros-ellerau.de
SUMMARY:Hafentage Aukrug 2026
DESCRIPTION:
URL:https://www.smc-albatros-ellerau.de/event/hafentage-aukrug-2026/
LOCATION:Niedersachsen
END:VEVENT
BEGIN:VEVENT
DTSTART;TZID=Europe/Berlin:20260926T170000
DTEND;TZID=Europe/Berlin:20260926T200000
DTSTAMP:20260421T172814
CREATED:20260412T135542Z
LAST-MODIFIED:20260412T140058Z
UID:8690-1790442000-1790452800@www.smc-albatros-ellerau.de
SUMMARY:Abfahren / Lichterfahrt
DESCRIPTION:
URL:https://www.smc-albatros-ellerau.de/event/3-offene-vorstandsitzung/
LOCATION:Niedersachsen
END:VEVENT
END:VCALENDAR